BEGIN:VCALENDAR
VERSION:2.0
PRODID:-//Fokus-Tierwohl//Veranstaltungen//DE
BEGIN:VTIMEZONE
TZID:Europe/Berlin
LAST-MODIFIED:20260306T231828Z
TZURL:https://www.tzurl.org/zoneinfo/Europe/Berlin
X-LIC-LOCATION:Europe/Berlin
X-PROLEPTIC-TZNAME:LMT
BEGIN:STANDARD
TZNAME:CET
TZOFFSETFROM:+0053
TZOFFSETTO:+0100
DTSTART:18930401T000000
END:STANDARD
BEGIN:STANDARD
TZNAME:CET
TZOFFSETFROM:+0200
TZOFFSETTO:+0100
DTSTART:19161001T010000
RDATE:19421102T030000
RDATE:19431004T030000
RDATE:19441002T030000
RDATE:19451118T030000
RDATE:19461007T030000
END:STANDARD
BEGIN:STANDARD
TZNAME:CET
TZOFFSETFROM:+0200
TZOFFSETTO:+0100
DTSTART:19170917T030000
RRULE:FREQ=YEARLY;UNTIL=19180916T010000Z;BYDAY=3MO;BYMONTH=9
END:STANDARD
BEGIN:STANDARD
TZNAME:CET
TZOFFSETFROM:+0100
TZOFFSETTO:+0100
DTSTART:19460101T000000
RDATE:19800101T000000
END:STANDARD
BEGIN:STANDARD
TZNAME:CET
TZOFFSETFROM:+0200
TZOFFSETTO:+0100
DTSTART:19471005T030000
RRULE:FREQ=YEARLY;UNTIL=19491002T010000Z;BYDAY=1SU;BYMONTH=10
END:STANDARD
BEGIN:STANDARD
TZNAME:CET
TZOFFSETFROM:+0200
TZOFFSETTO:+0100
DTSTART:19800928T030000
RRULE:FREQ=YEARLY;UNTIL=19950924T010000Z;BYDAY=-1SU;BYMONTH=9
END:STANDARD
BEGIN:STANDARD
TZNAME:CET
TZOFFSETFROM:+0200
TZOFFSETTO:+0100
DTSTART:19961027T030000
RRULE:FREQ=YEARLY;BYDAY=-1SU;BYMONTH=10
END:STANDARD
BEGIN:DAYLIGHT
TZNAME:CEST
TZOFFSETFROM:+0100
TZOFFSETTO:+0200
DTSTART:19160430T230000
RDATE:19400401T020000
RDATE:19430329T020000
RDATE:19460414T020000
RDATE:19470406T030000
RDATE:19480418T020000
RDATE:19490410T020000
RDATE:19800406T020000
END:DAYLIGHT
BEGIN:DAYLIGHT
TZNAME:CEST
TZOFFSETFROM:+0100
TZOFFSETTO:+0200
DTSTART:19170416T020000
RRULE:FREQ=YEARLY;UNTIL=19180415T010000Z;BYDAY=3MO;BYMONTH=4
END:DAYLIGHT
BEGIN:DAYLIGHT
TZNAME:CEST
TZOFFSETFROM:+0100
TZOFFSETTO:+0200
DTSTART:19440403T020000
RRULE:FREQ=YEARLY;UNTIL=19450402T010000Z;BYDAY=1MO;BYMONTH=4
END:DAYLIGHT
BEGIN:DAYLIGHT
TZNAME:CEMT
TZOFFSETFROM:+0200
TZOFFSETTO:+0300
DTSTART:19450524T020000
RDATE:19470511T030000
END:DAYLIGHT
BEGIN:DAYLIGHT
TZNAME:CEST
TZOFFSETFROM:+0300
TZOFFSETTO:+0200
DTSTART:19450924T030000
RDATE:19470629T030000
END:DAYLIGHT
BEGIN:DAYLIGHT
TZNAME:CEST
TZOFFSETFROM:+0100
TZOFFSETTO:+0200
DTSTART:19810329T020000
RRULE:FREQ=YEARLY;BYDAY=-1SU;BYMONTH=3
END:DAYLIGHT
END:VTIMEZONE
BEGIN:VEVENT
DTSTAMP:20260423T060303Z
UID:04637ab1-d9bf-4788-96d8-a9cdfc1af7eb
SEQUENCE:1
SUMMARY:Kuh-/Ammengebundene Kälberaufzucht
DESCRIPTION:Wie gelingt eine kuh- oder ammengebundene Kälberaufzucht in der 
 Praxis?\nDieser Frage widmen wir uns im Rahmen eines fachlichen Seminartag
 es mit Theorie\, Austausch und Praxisbeispiel.\nAm Vormittag wird Dr. Kers
 tin Barth Einblicke in ihre langjährige Forschung zur kuhgebundenen Kälber
 aufzucht geben. Sie leitet am Thünen-Institut in Trenthorst die Arbeitsgru
 ppe Rind und forscht intensiv zur optimalen Umsetzung alternativer Aufzuch
 tsysteme. In ihrem Vortrag wird sie zentrale Erkenntnisse\, Herausforderun
 gen und Lösungsansätze vorstellen – fundiert\, praxisnah und mit Raum für 
 Fragen und Austausch.\nNach dem gemeinsamen Mittagessen geht es in den neu 
 gebauten Ammenstall von Jan Lieske\, der im Jahr 2024 fertiggestellt wurde
 . Herr Lieske wird vor Ort erläutern\, wie er die Haltung am Betrieb umset
 zt\, worauf er bei Planung und Bau des Stalls geachtet hat\, und welche Er
 fahrungen er bisher gesammelt hat. Frau Dr. Barth wird die Stallbesichtigu
 ng begleiten und ihre fachliche Perspektive in den Austausch einbringen.\n
 Ziel der Veranstaltung ist es\, interessierten Landwirt*innen – egal ob be
 reits in der Umsetzung oder noch in der Planung – konkrete Impulse\, Wisse
 n und Erfahrungsberichte an die Hand zu geben.\n\n\n\nEinladung Kuh- Ammen
 gebundene Kälberaufzucht 06.05.2026.pdf: https://api.fokus-tierwohl.de/fok
 us-tierwohl/api/v1/veranstaltungs/download/6654?filename=Einladung%20Kuh-%
 20Ammengebundene%20K%C3%A4lberaufzucht%2006.05.2026.pdf
LOCATION:25560 Hadenfeld 
LAST-MODIFIED:20260107T070349Z
DTSTART;TZID=Europe/Berlin:20260506T100000
DTEND;TZID=Europe/Berlin:20260506T143000
END:VEVENT
END:VCALENDAR
