BEGIN:VCALENDAR
VERSION:2.0
PRODID:-//Fokus-Tierwohl//Veranstaltungen//DE
BEGIN:VTIMEZONE
TZID:Europe/Berlin
LAST-MODIFIED:20260306T231828Z
TZURL:https://www.tzurl.org/zoneinfo/Europe/Berlin
X-LIC-LOCATION:Europe/Berlin
X-PROLEPTIC-TZNAME:LMT
BEGIN:STANDARD
TZNAME:CET
TZOFFSETFROM:+0053
TZOFFSETTO:+0100
DTSTART:18930401T000000
END:STANDARD
BEGIN:STANDARD
TZNAME:CET
TZOFFSETFROM:+0200
TZOFFSETTO:+0100
DTSTART:19161001T010000
RDATE:19421102T030000
RDATE:19431004T030000
RDATE:19441002T030000
RDATE:19451118T030000
RDATE:19461007T030000
END:STANDARD
BEGIN:STANDARD
TZNAME:CET
TZOFFSETFROM:+0200
TZOFFSETTO:+0100
DTSTART:19170917T030000
RRULE:FREQ=YEARLY;UNTIL=19180916T010000Z;BYDAY=3MO;BYMONTH=9
END:STANDARD
BEGIN:STANDARD
TZNAME:CET
TZOFFSETFROM:+0100
TZOFFSETTO:+0100
DTSTART:19460101T000000
RDATE:19800101T000000
END:STANDARD
BEGIN:STANDARD
TZNAME:CET
TZOFFSETFROM:+0200
TZOFFSETTO:+0100
DTSTART:19471005T030000
RRULE:FREQ=YEARLY;UNTIL=19491002T010000Z;BYDAY=1SU;BYMONTH=10
END:STANDARD
BEGIN:STANDARD
TZNAME:CET
TZOFFSETFROM:+0200
TZOFFSETTO:+0100
DTSTART:19800928T030000
RRULE:FREQ=YEARLY;UNTIL=19950924T010000Z;BYDAY=-1SU;BYMONTH=9
END:STANDARD
BEGIN:STANDARD
TZNAME:CET
TZOFFSETFROM:+0200
TZOFFSETTO:+0100
DTSTART:19961027T030000
RRULE:FREQ=YEARLY;BYDAY=-1SU;BYMONTH=10
END:STANDARD
BEGIN:DAYLIGHT
TZNAME:CEST
TZOFFSETFROM:+0100
TZOFFSETTO:+0200
DTSTART:19160430T230000
RDATE:19400401T020000
RDATE:19430329T020000
RDATE:19460414T020000
RDATE:19470406T030000
RDATE:19480418T020000
RDATE:19490410T020000
RDATE:19800406T020000
END:DAYLIGHT
BEGIN:DAYLIGHT
TZNAME:CEST
TZOFFSETFROM:+0100
TZOFFSETTO:+0200
DTSTART:19170416T020000
RRULE:FREQ=YEARLY;UNTIL=19180415T010000Z;BYDAY=3MO;BYMONTH=4
END:DAYLIGHT
BEGIN:DAYLIGHT
TZNAME:CEST
TZOFFSETFROM:+0100
TZOFFSETTO:+0200
DTSTART:19440403T020000
RRULE:FREQ=YEARLY;UNTIL=19450402T010000Z;BYDAY=1MO;BYMONTH=4
END:DAYLIGHT
BEGIN:DAYLIGHT
TZNAME:CEMT
TZOFFSETFROM:+0200
TZOFFSETTO:+0300
DTSTART:19450524T020000
RDATE:19470511T030000
END:DAYLIGHT
BEGIN:DAYLIGHT
TZNAME:CEST
TZOFFSETFROM:+0300
TZOFFSETTO:+0200
DTSTART:19450924T030000
RDATE:19470629T030000
END:DAYLIGHT
BEGIN:DAYLIGHT
TZNAME:CEST
TZOFFSETFROM:+0100
TZOFFSETTO:+0200
DTSTART:19810329T020000
RRULE:FREQ=YEARLY;BYDAY=-1SU;BYMONTH=3
END:DAYLIGHT
END:VTIMEZONE
BEGIN:VEVENT
DTSTAMP:20260423T060443Z
UID:2de0a1b9-0ad1-48e0-a53a-4e04758fd663
SEQUENCE:1
SUMMARY:Klimabilanz auf dem Hof
DESCRIPTION:Chancen\, Updates & Lösungen\n\nAb 10 Uhr Vorträge:\n"Klimabila
 nzen - aktuelle Entwicklungen & Sachstand Wissenschaft"\nDr. Friederike Fe
 nger\, Thünen Institut \n\n"Klimabilanzierung auf dem landwirtschaftlichen 
 Betrieb - wie Arla Foods vorangeht"\nArla Foods Deutschland GmbH\n\nVortra
 g der Landwirtschaftlichen Rentenbank\nPhilipp Mehlhose\, Landwirtschaftli
 che Rentenbank\n\n\n12:15 Uhr Mittagsimbiss (Selbstzahler)\n\nVor und nach 
 den Vorträgen Besuch der Bau- und Energielehrschau \n\nEine Anmeldung ist 
 nicht erforderlich und die Teilnahme ist kostenfrei.\nInfos/ Ansprechpartn
 erin Hannah Straky unter hstraky@lksh.de oder 04381/9009-47\n\nDie Landwir
 tschaft steht zunehmend im Fokus der Klimadebatte – und bietet gleichzeiti
 g große Chancen\, aktiv Lösungen mitzugestalten. Viele Betriebe setzen ber
 eits erfolgreich Maßnahmen um\, um ihre Produktion nachhaltiger und zukunf
 tsfähiger auszurichten.\nIn Deutschland entfallen rund 8–9 % der gesamten 
 Treibhausgasemissionen auf die Landwirtschaft. Dabei spielen vor allem Met
 han aus der Tierhaltung und Lachgas aus der Düngung eine Rolle. Gleichzeit
 ig liegt genau hier ein großes Potenzial: Durch gezielte Anpassungen im Be
 triebsmanagement lassen sich Emissionen wirksam reduzieren und Prozesse ef
 fizienter gestalten.  \nDie Klimabilanzierung auf Betriebsebene wird dabei 
 zu einem wichtigen Werkzeug. Sie schafft Transparenz\, hilft Einsparpotenz
 iale zu erkennen und unterstützt fundierte Entscheidungen – sei es im Hinb
 lick auf Investitionen\, Fördermöglichkeiten oder zukünftige Anforderungen 
 entlang der Wertschöpfungskette.\nDie Veranstaltung „Klimabilanz auf dem H
 of – Chancen\, Updates & Lösungen“ greift diese Themen auf und zeigt praxi
 snahe Wege für landwirtschaftliche Betriebe. Sie bietet aktuelle Einblicke 
 aus Wissenschaft und Praxis sowie konkrete Ansätze\, wie sich Klimaschutz 
 und wirtschaftlicher Erfolg sinnvoll miteinander verbinden lassen.\n\n
LOCATION:Lehr- und Versuchsanstalt Futterkamp\, Gutshof\, 24327 Blekendorf
LAST-MODIFIED:20260417T233937Z
DTSTART;TZID=Europe/Berlin:20260507T090000
DTEND;TZID=Europe/Berlin:20260507T150000
END:VEVENT
END:VCALENDAR
