BEGIN:VCALENDAR
VERSION:2.0
PRODID:-//Fokus-Tierwohl//Veranstaltungen//DE
BEGIN:VTIMEZONE
TZID:Europe/Berlin
LAST-MODIFIED:20260306T231828Z
TZURL:https://www.tzurl.org/zoneinfo/Europe/Berlin
X-LIC-LOCATION:Europe/Berlin
X-PROLEPTIC-TZNAME:LMT
BEGIN:STANDARD
TZNAME:CET
TZOFFSETFROM:+0053
TZOFFSETTO:+0100
DTSTART:18930401T000000
END:STANDARD
BEGIN:STANDARD
TZNAME:CET
TZOFFSETFROM:+0200
TZOFFSETTO:+0100
DTSTART:19161001T010000
RDATE:19421102T030000
RDATE:19431004T030000
RDATE:19441002T030000
RDATE:19451118T030000
RDATE:19461007T030000
END:STANDARD
BEGIN:STANDARD
TZNAME:CET
TZOFFSETFROM:+0200
TZOFFSETTO:+0100
DTSTART:19170917T030000
RRULE:FREQ=YEARLY;UNTIL=19180916T010000Z;BYDAY=3MO;BYMONTH=9
END:STANDARD
BEGIN:STANDARD
TZNAME:CET
TZOFFSETFROM:+0100
TZOFFSETTO:+0100
DTSTART:19460101T000000
RDATE:19800101T000000
END:STANDARD
BEGIN:STANDARD
TZNAME:CET
TZOFFSETFROM:+0200
TZOFFSETTO:+0100
DTSTART:19471005T030000
RRULE:FREQ=YEARLY;UNTIL=19491002T010000Z;BYDAY=1SU;BYMONTH=10
END:STANDARD
BEGIN:STANDARD
TZNAME:CET
TZOFFSETFROM:+0200
TZOFFSETTO:+0100
DTSTART:19800928T030000
RRULE:FREQ=YEARLY;UNTIL=19950924T010000Z;BYDAY=-1SU;BYMONTH=9
END:STANDARD
BEGIN:STANDARD
TZNAME:CET
TZOFFSETFROM:+0200
TZOFFSETTO:+0100
DTSTART:19961027T030000
RRULE:FREQ=YEARLY;BYDAY=-1SU;BYMONTH=10
END:STANDARD
BEGIN:DAYLIGHT
TZNAME:CEST
TZOFFSETFROM:+0100
TZOFFSETTO:+0200
DTSTART:19160430T230000
RDATE:19400401T020000
RDATE:19430329T020000
RDATE:19460414T020000
RDATE:19470406T030000
RDATE:19480418T020000
RDATE:19490410T020000
RDATE:19800406T020000
END:DAYLIGHT
BEGIN:DAYLIGHT
TZNAME:CEST
TZOFFSETFROM:+0100
TZOFFSETTO:+0200
DTSTART:19170416T020000
RRULE:FREQ=YEARLY;UNTIL=19180415T010000Z;BYDAY=3MO;BYMONTH=4
END:DAYLIGHT
BEGIN:DAYLIGHT
TZNAME:CEST
TZOFFSETFROM:+0100
TZOFFSETTO:+0200
DTSTART:19440403T020000
RRULE:FREQ=YEARLY;UNTIL=19450402T010000Z;BYDAY=1MO;BYMONTH=4
END:DAYLIGHT
BEGIN:DAYLIGHT
TZNAME:CEMT
TZOFFSETFROM:+0200
TZOFFSETTO:+0300
DTSTART:19450524T020000
RDATE:19470511T030000
END:DAYLIGHT
BEGIN:DAYLIGHT
TZNAME:CEST
TZOFFSETFROM:+0300
TZOFFSETTO:+0200
DTSTART:19450924T030000
RDATE:19470629T030000
END:DAYLIGHT
BEGIN:DAYLIGHT
TZNAME:CEST
TZOFFSETFROM:+0100
TZOFFSETTO:+0200
DTSTART:19810329T020000
RRULE:FREQ=YEARLY;BYDAY=-1SU;BYMONTH=3
END:DAYLIGHT
END:VTIMEZONE
BEGIN:VEVENT
DTSTAMP:20260420T081911Z
UID:8063aeda-f68e-407f-9d83-a154a757417c
SEQUENCE:1
SUMMARY:Zweitägige Exkursion für Schweinehaltende Betriebe
DESCRIPTION:Der erste Tag startet vom LLH Fritzlar aus nach Boxberg in die 
 Landesanstalt für \nSchweinezucht. Auf dem Weg gibt es die \nMöglichkeit f
 ür südhessische Betriebe am Autohof Erlensee zuzusteigen. In Boxberg kann 
 \nMittagessen serviert werden und anschließend die Führung im konventionel
 len und \nalternativen Bereich stattfinden. Aktuelle Schwerpunkte und Proj
 ekte der Landeseinrichtung \nwerden vorgestellt. Anschließend erfolgt die 
 Weiterfahrt nach Bad Mergentheim zum \nRinghotel Bundschuh.  \nAm zweiten 
 Tag besichtigen wir den Betrieb von Martin Stodal im Main-Tauber-Kreis. Ne
 ben \ndem optimierten Fütterungskonzept stehen das betriebliche Gesamtkonz
 ept\, eine alternative \nVermarktung und Tierwohl im Vordergrund. Der Betr
 ieb arbeitet im teilgeschlossenen \nSystem. Die Ferkel werden in einem neu 
 gebauten Haltungsform-4-Stall gehalten. Die \nMastschweinehaltung erfolgt 
 in Außenklimaställen.  \nDer zweite Betrieb an dem Tag ist der „Landwehrho
 f“ von Peter Baureis in Schrozberg. Im Betrieb werden 300 \nSauen mit ansc
 hließender Ferkelaufzucht und Schweinemast gehalten. Highlight ist der \nM
 aststall in alternativer Haltungsform mit automatisierter Einstreu\, sowie 
 ein neu gebauter \nAbferkelstall. \n\n\n\nEinladung Exkursion 2026.pdf: ht
 tps://api.fokus-tierwohl.de/fokus-tierwohl/api/v1/veranstaltungs/download/
 7301?filename=Einladung%20Exkursion%202026.pdf
LOCATION:Baden-Württemberg
LAST-MODIFIED:20260415T044813Z
DTSTART;TZID=Europe/Berlin:20260506T080000
DTEND;TZID=Europe/Berlin:20260507T190000
END:VEVENT
END:VCALENDAR
