BEGIN:VCALENDAR
VERSION:2.0
PRODID:-//Fokus-Tierwohl//Veranstaltungen//DE
BEGIN:VTIMEZONE
TZID:Europe/Berlin
LAST-MODIFIED:20260306T231828Z
TZURL:https://www.tzurl.org/zoneinfo/Europe/Berlin
X-LIC-LOCATION:Europe/Berlin
X-PROLEPTIC-TZNAME:LMT
BEGIN:STANDARD
TZNAME:CET
TZOFFSETFROM:+0053
TZOFFSETTO:+0100
DTSTART:18930401T000000
END:STANDARD
BEGIN:STANDARD
TZNAME:CET
TZOFFSETFROM:+0200
TZOFFSETTO:+0100
DTSTART:19161001T010000
RDATE:19421102T030000
RDATE:19431004T030000
RDATE:19441002T030000
RDATE:19451118T030000
RDATE:19461007T030000
END:STANDARD
BEGIN:STANDARD
TZNAME:CET
TZOFFSETFROM:+0200
TZOFFSETTO:+0100
DTSTART:19170917T030000
RRULE:FREQ=YEARLY;UNTIL=19180916T010000Z;BYDAY=3MO;BYMONTH=9
END:STANDARD
BEGIN:STANDARD
TZNAME:CET
TZOFFSETFROM:+0100
TZOFFSETTO:+0100
DTSTART:19460101T000000
RDATE:19800101T000000
END:STANDARD
BEGIN:STANDARD
TZNAME:CET
TZOFFSETFROM:+0200
TZOFFSETTO:+0100
DTSTART:19471005T030000
RRULE:FREQ=YEARLY;UNTIL=19491002T010000Z;BYDAY=1SU;BYMONTH=10
END:STANDARD
BEGIN:STANDARD
TZNAME:CET
TZOFFSETFROM:+0200
TZOFFSETTO:+0100
DTSTART:19800928T030000
RRULE:FREQ=YEARLY;UNTIL=19950924T010000Z;BYDAY=-1SU;BYMONTH=9
END:STANDARD
BEGIN:STANDARD
TZNAME:CET
TZOFFSETFROM:+0200
TZOFFSETTO:+0100
DTSTART:19961027T030000
RRULE:FREQ=YEARLY;BYDAY=-1SU;BYMONTH=10
END:STANDARD
BEGIN:DAYLIGHT
TZNAME:CEST
TZOFFSETFROM:+0100
TZOFFSETTO:+0200
DTSTART:19160430T230000
RDATE:19400401T020000
RDATE:19430329T020000
RDATE:19460414T020000
RDATE:19470406T030000
RDATE:19480418T020000
RDATE:19490410T020000
RDATE:19800406T020000
END:DAYLIGHT
BEGIN:DAYLIGHT
TZNAME:CEST
TZOFFSETFROM:+0100
TZOFFSETTO:+0200
DTSTART:19170416T020000
RRULE:FREQ=YEARLY;UNTIL=19180415T010000Z;BYDAY=3MO;BYMONTH=4
END:DAYLIGHT
BEGIN:DAYLIGHT
TZNAME:CEST
TZOFFSETFROM:+0100
TZOFFSETTO:+0200
DTSTART:19440403T020000
RRULE:FREQ=YEARLY;UNTIL=19450402T010000Z;BYDAY=1MO;BYMONTH=4
END:DAYLIGHT
BEGIN:DAYLIGHT
TZNAME:CEMT
TZOFFSETFROM:+0200
TZOFFSETTO:+0300
DTSTART:19450524T020000
RDATE:19470511T030000
END:DAYLIGHT
BEGIN:DAYLIGHT
TZNAME:CEST
TZOFFSETFROM:+0300
TZOFFSETTO:+0200
DTSTART:19450924T030000
RDATE:19470629T030000
END:DAYLIGHT
BEGIN:DAYLIGHT
TZNAME:CEST
TZOFFSETFROM:+0100
TZOFFSETTO:+0200
DTSTART:19810329T020000
RRULE:FREQ=YEARLY;BYDAY=-1SU;BYMONTH=3
END:DAYLIGHT
END:VTIMEZONE
BEGIN:VEVENT
DTSTAMP:20260423T060320Z
UID:91fb13e0-f712-4a8c-8674-424658be0d03
SEQUENCE:1
SUMMARY:Klauenpflege und Klauengesundheit beim Rind
DESCRIPTION:Klauenkrankheiten und Lahmheit bei Rindern mindern nicht nur da
 s Tierwohl\, sondern senken auch die Leistung der Tiere und somit die Wirt
 schaftlichkeit des betroffenen Betriebes. Im theoretischen Teil des Semina
 rs wird Frau Dr. Andrea Fiedler darauf eingehen\, wie man Klauenkrankheite
 n rechtzeitig erkennt und Klauenschäden durch Klauenpflege verhindert. Zud
 em wird sie erläutern\, wie man durch Bewertung der Bewegung der Tiere Lah
 mheit erkennen kann. Im praktischen Teil des Seminars haben die Teilnehmen
 den die Möglichkeit im Stall die Klauen zu beurteilen sowie die Bewegung d
 er Tiere auf Lahmheit zu analysieren. Zum Abschluss wird Frau Dr. Andrea F
 iedler Klauenpflege im Klauenstand demonstrieren\, wichtige Aspekte erläut
 ern und aufkommende Fragen beantworten. \n\n\n\n2026_04_28_Klauenpflege.pd
 f: https://api.fokus-tierwohl.de/fokus-tierwohl/api/v1/veranstaltungs/down
 load/7209?filename=2026_04_28_Klauenpflege.pdf
LOCATION:Lindenberger Agrargenossenschaft e.G. – Rellyner Str. 21 – 17111 L
 indenberg
LAST-MODIFIED:20260401T113245Z
DTSTART;TZID=Europe/Berlin:20260428T093000
DTEND;TZID=Europe/Berlin:20260428T160000
END:VEVENT
END:VCALENDAR
